BEGIN:VCALENDAR
VERSION:2.0
PRODID:-//campihope.org//NONSGML kigkonsult.se iCalcreator 2.30.10//
CALSCALE:GREGORIAN
METHOD:PUBLISH
UID:cbc7b3d6-b19c-4814-a9e1-f9a7163721cc
X-WR-CALDESC:<strong>A place to belong...together a family!</strong>\n\nLoc
 ated on scenic Possum Kingdom Lake in Graford\, Texas\, Camp Grady Spruce 
 is an ACA accredited co-ed overnight camp providing campers of all ages wi
 th opportunities to participate in exceptional outdoor experiences while l
 earning about the surrounding natural landscape.\n\nCamp iHope is a specia
 l summer camp experience for children with cancer and their siblings 7-16 
 years of age.  By providing specialized medical & psychosocial  care\, we 
 give kids the opportunity to take a 'break from cancer\,' to get back to t
 he fun of being a kid and to escape the grown-up realities they face every
  day.\n\nThe beauty of this experience is in the way that lives are change
 d.  Campers demonstrate growth in independence and confidence.  They form 
 lifelong friendships that provide a network of support.  They experience t
 he extraordinary feeling of feeling 'normal' and not 'different' that only
  comes from being with others that understand what your'e going through...
 \n\nCamp provides fun...and so much more...camp creates a sense of belongi
 ng...creates another family...in essence...camp heals.
X-WR-RELCALID:9529ca2fead92b26c60d705e97c3af87
X-WR-TIMEZONE:America/Chicago
BEGIN:VTIMEZONE
TZID:America/Chicago
BEGIN:STANDARD
TZNAME:CST
DTSTART:20251102T020000
TZOFFSETFROM:-0500
TZOFFSETTO:-0600
RDATE:20261101T020000
RDATE:20271107T020000
END:STANDARD
BEGIN:DAYLIGHT
TZNAME:CDT
DTSTART:20260308T020000
TZOFFSETFROM:-0600
TZOFFSETTO:-0500
RDATE:20270314T020000
END:DAYLIGHT
END:VTIMEZONE
BEGIN:VEVENT
UID:e1818088-b310-4629-8e7a-6f210c734e03
DTSTAMP:20260421T000820Z
DESCRIPTION:<strong>A place to belong...together a family!</strong>\n\nLoca
 ted on scenic Possum Kingdom Lake in Graford\, Texas\, Camp Grady Spruce i
 s an ACA accredited co-ed overnight camp providing campers of all ages wit
 h opportunities to participate in exceptional outdoor experiences while le
 arning about the surrounding natural landscape.\n\nCamp iHope is a special
  summer camp experience for children with cancer and their siblings 7-16 y
 ears of age.  By providing specialized medical & psychosocial  care\, we g
 ive kids the opportunity to take a 'break from cancer\,' to get back to th
 e fun of being a kid and to escape the grown-up realities they face every 
 day.\n\nThe beauty of this experience is in the way that lives are changed
 .  Campers demonstrate growth in independence and confidence.  They form l
 ifelong friendships that provide a network of support.  They experience th
 e extraordinary feeling of feeling 'normal' and not 'different' that only 
 comes from being with others that understand what your'e going through...
 \n\nCamp provides fun...and so much more...camp creates a sense of belongi
 ng...creates another family...in essence...camp heals.
DTSTART;TZID=America/Chicago:20260712T050000
DTEND;TZID=America/Chicago:20260717T050001
LOCATION:Camp Grady Spruce at Possum Kingdom Lake in Graford\, Texas
SUMMARY:Camp iHope 2026
END:VEVENT
END:VCALENDAR
